BEGIN:VCALENDAR
VERSION:2.0
PRODID:-//ChamberMaster//Event Calendar 2.0//EN
METHOD:PUBLISH
X-PUBLISHED-TTL:P3D
REFRESH-INTERVAL:P3D
CALSCALE:GREGORIAN
BEGIN:VEVENT
DTSTART:20260429T160000Z
DTEND:20260429T170000Z
X-MICROSOFT-CDO-ALLDAYEVENT:FALSE
SUMMARY:Viva Vestavia Committee Meeting
DESCRIPTION:Viva Vestavia Committee Meeting
X-ALT-DESC;FMTTYPE=text/html:Viva Vestavia Committee Meeting
LOCATION:Chamber Office
UID:e.888.7482
SEQUENCE:3
DTSTAMP:20260420T083247Z
URL:https://business.vestaviahills.org/events/details/viva-vestavia-committee-meeting-7482
END:VEVENT

END:VCALENDAR
