BEGIN:VCALENDAR
VERSION:2.0
PRODID:-//ChamberMaster//Event Calendar 2.0//EN
METHOD:PUBLISH
X-PUBLISHED-TTL:P3D
REFRESH-INTERVAL:P3D
CALSCALE:GREGORIAN
BEGIN:VEVENT
DTSTART:20260610T214500Z
DTEND:20260610T224500Z
X-MICROSOFT-CDO-ALLDAYEVENT:FALSE
SUMMARY:VHMC: Summer Worship Nights
DESCRIPTION:Join us Wednesday\, June 10\, for our first Summer Worship Night! We will gather outside under a big tent for a low country boil (with flatbread pizzas for the kids) from 4:45-5:45. pm. Then\, we will have a brief time of family worship outside. There will be childcare for this event\, but children are also welcome to join in a time of family prayer and worship! This is a community-wide event\, so please help us spread the word.\n\nhttps://vhmc.tpsdb.com/OnlineReg/2329
X-ALT-DESC;FMTTYPE=text/html:<p><span style="color:black\; font-family:aptos\,arial\,helvetica\,sans-serif\; font-size:12pt">Join us Wednesday\, June 10\, for our first Summer Worship Night! We will gather outside under a big tent for a low country boil (with flatbread pizzas for the kids) from 4:45-5:45. pm. Then\, we will have a brief time of family worship outside. There will be childcare for this event\, but children are also welcome to join in a time of family prayer and worship! This is a community-wide event\, so please help us spread the word.</span></p>\n\n<p><span style="background-color:aqua\; color:fuchsia\; font-family:aptos\,arial\,helvetica\,sans-serif\; font-size:12pt"><u><a href="https://vhmc.tpsdb.com/OnlineReg/2329" style="color: fuchsia\; margin-top: 0px\; margin-bottom: 0px\;" title="https://vhmc.tpsdb.com/OnlineReg/2329">https://vhmc.tpsdb.com/OnlineReg/2329</a></u></span></p>\n
LOCATION:Vestavia Hills Methodist Church \; 2061 Kentucky Ave.\, Vestavia Hills\, AL - outside under the big tent in the parking lot
UID:e.888.8407
SEQUENCE:3
DTSTAMP:20260423T110437Z
URL:https://business.vestaviahills.org/events/details/vhmc-summer-worship-nights-8407
END:VEVENT

END:VCALENDAR
