BEGIN:VCALENDAR
VERSION:2.0
PRODID:-//ChamberMaster//Event Calendar 2.0//EN
METHOD:PUBLISH
X-PUBLISHED-TTL:P3D
REFRESH-INTERVAL:P3D
CALSCALE:GREGORIAN
BEGIN:VEVENT
DTSTART:20260423T140000Z
DTEND:20260423T170000Z
X-MICROSOFT-CDO-ALLDAYEVENT:FALSE
SUMMARY:VHMC: New Mom's Support Group
DESCRIPTION:This group is led by Brookwood certified nurses and provides insights on nursing and other questions for new moms.
X-ALT-DESC;FMTTYPE=text/html:This group is led by Brookwood certified nurses and provides insights on nursing and other questions for new moms.&nbsp\;
LOCATION:Vestavia Hills Methodist Church\, 2061 Kentucky Ave.\, Vestavia Hills\, AL - in Room 316
UID:e.888.8079
SEQUENCE:3
DTSTAMP:20260421T220605Z
URL:https://business.vestaviahills.org/events/details/vhmc-new-mom-s-support-group-8079
END:VEVENT

END:VCALENDAR
