BEGIN:VCALENDAR
VERSION:2.0
PRODID:-//ChamberMaster//Event Calendar 2.0//EN
METHOD:PUBLISH
X-PUBLISHED-TTL:P3D
REFRESH-INTERVAL:P3D
CALSCALE:GREGORIAN
BEGIN:VEVENT
DTSTART:20260611T140000Z
DTEND:20260611T170000Z
X-MICROSOFT-CDO-ALLDAYEVENT:FALSE
SUMMARY:VHMC: Vacation Bible Camp
DESCRIPTION:Our Snowball Mountain Challenge will be June 8-11 from 9:00 am-12:00 pm each day. 4k through 5th graders will gear up for frosty games\, snowy surprises\, and hands-on lessons about resilience and faith. They will learn that with the strength God provides\, they can share their gifts\, be brave\, pray\, and give their all.\n\nhttps://vhmc.tpsdb.com/OnlineReg/444
X-ALT-DESC;FMTTYPE=text/html:<p><span style="color:rgb(0\, 0\, 0)\; font-family:aptos\,arial\,helvetica\,sans-serif\; font-size:12pt">Our <em>Snowball Mountain Challenge </em>will be<em>&nbsp\;</em>June 8-11 from 9:00 am-12:00 pm each day. 4k through 5th graders will gear up for frosty games\, snowy surprises\, and hands-on lessons about resilience and faith. They will learn that with the strength God provides\, they can share their gifts\, be brave\, pray\, and give their all.</span></p>\n\n<p><span style="background-color:aqua\; color:fuchsia\; font-family:aptos\,arial\,helvetica\,sans-serif\; font-size:12pt"><u><a href="https://vhmc.tpsdb.com/OnlineReg/444" style="color: fuchsia\; margin-top: 0px\; margin-bottom: 0px\;" title="https://vhmc.tpsdb.com/OnlineReg/444">https://vhmc.tpsdb.com/OnlineReg/444</a></u></span></p>\n
LOCATION:Vestavia Hills Methodist Church\, 2061 Kentucky Ave.\, Vestavia Hills\, AL
UID:e.888.8412
SEQUENCE:3
DTSTAMP:20260423T110621Z
URL:https://business.vestaviahills.org/events/details/vacation-bible-camp-vbc-at-vhmc-06-11-2026-8412
END:VEVENT

END:VCALENDAR
