BEGIN:VCALENDAR
VERSION:2.0
PRODID:-//ChamberMaster//Event Calendar 2.0//EN
METHOD:PUBLISH
X-PUBLISHED-TTL:P3D
REFRESH-INTERVAL:P3D
CALSCALE:GREGORIAN
BEGIN:VEVENT
DTSTART:20230601T210000Z
DTEND:20230601T220000Z
X-MICROSOFT-CDO-ALLDAYEVENT:FALSE
SUMMARY:Union Home Mortgage ribbon cutting
DESCRIPTION:Join us at a ribbon cutting for Union Home Mortgage
X-ALT-DESC;FMTTYPE=text/html:Join us at a ribbon cutting for Union Home Mortgage&nbsp\;
LOCATION:4009 Crosshaven Dr Vestavia Hills 35243
UID:e.888.6454
SEQUENCE:3
DTSTAMP:20260419T143632Z
URL:https://business.vestaviahills.org/events/details/union-home-mortgage-ribbon-cutting-6454
END:VEVENT

END:VCALENDAR
