BEGIN:VCALENDAR
VERSION:2.0
PRODID:-//ChamberMaster//Event Calendar 2.0//EN
METHOD:PUBLISH
X-PUBLISHED-TTL:P3D
REFRESH-INTERVAL:P3D
CALSCALE:GREGORIAN
BEGIN:VEVENT
DTSTART:20260430T230000Z
DTEND:20260501T000000Z
X-MICROSOFT-CDO-ALLDAYEVENT:FALSE
SUMMARY:VHMC: Unbound Grace - Addiction Support Group
DESCRIPTION:Unbound Grace is a Christ-centered recovery program for anyone who is in the recovery community and their family members. This group provides love\, support\, and grace to one another to stay the course and become the beautiful person God created them to be.
X-ALT-DESC;FMTTYPE=text/html:Unbound Grace is a Christ-centered recovery program for anyone who is in the recovery community and their family members. This group provides love\, support\, and grace to one another to stay the course and become the beautiful person God created them to be.&nbsp\;
LOCATION:Vestavia Hills Methodist Church\, 2061 Kentucky Ave.\, Vestavia Hills\, Room 107 on Support Floor
UID:e.888.7495
SEQUENCE:3
DTSTAMP:20260423T110351Z
URL:https://business.vestaviahills.org/events/details/unbound-grace-addiction-support-group-04-30-2026-7495
END:VEVENT

END:VCALENDAR
