BEGIN:VCALENDAR
VERSION:2.0
PRODID:-//ChamberMaster//Event Calendar 2.0//EN
METHOD:PUBLISH
X-PUBLISHED-TTL:P3D
REFRESH-INTERVAL:P3D
CALSCALE:GREGORIAN
BEGIN:VEVENT
DTSTART;VALUE=DATE:20230718
DTEND;VALUE=DATE:20230721
TRANSP:TRANSPARENT
X-MICROSOFT-CDO-ALLDAYEVENT:TRUE
SUMMARY:The Lili Pad: Back to School PreSale
DESCRIPTION:The Back to School Sales Tax Holiday Presale starts Tuesday\, July 18 at The Lili Pad and Gigi's!\n\n\n	Shop Tuesday-Thursday to pick out your items.\n	Fill out an Authorization Form\n	Your payment will be charged over the weekend during the Sales Tax Holiday\n	Pick up your items starting Monday\, July 24.
X-ALT-DESC;FMTTYPE=text/html:<div style="text-align: center\;"><span style="font-size:16px\;">The Back to School Sales Tax Holiday Presale starts Tuesday\, July 18 at The Lili Pad and Gigi&#39\;s!</span></div>\n\n<ul>\n	<li><span style="font-size:16px\;">Shop Tuesday-Thursday to pick out your items.</span></li>\n	<li><span style="font-size:16px\;">Fill out an Authorization Form</span></li>\n	<li><span style="font-size:16px\;">Your payment will be charged over the weekend during the Sales Tax Holiday</span></li>\n	<li><span style="font-size:16px\;">Pick up your items starting Monday\, July 24.</span></li>\n</ul>\n
LOCATION:The Lili Pad and Gigi's 3138 Heights Village
UID:e.888.6466
SEQUENCE:3
DTSTAMP:20260419T143108Z
URL:https://business.vestaviahills.org/events/details/the-lili-pad-back-to-school-presale-6466
END:VEVENT

END:VCALENDAR
