BEGIN:VCALENDAR
VERSION:2.0
PRODID:-//ChamberMaster//Event Calendar 2.0//EN
METHOD:PUBLISH
X-PUBLISHED-TTL:P3D
REFRESH-INTERVAL:P3D
CALSCALE:GREGORIAN
BEGIN:VEVENT
DTSTART:20260514T230000Z
DTEND:20260515T010000Z
X-MICROSOFT-CDO-ALLDAYEVENT:FALSE
SUMMARY:The Autism Parent Support Group: Bingo Night - community and support
DESCRIPTION:A community of parents or loved ones with an autistic child. Join us at Vestavia Methodist for a relaxed night of bingo and community on Thurs.\, 5/14\, 6-8 pm in the Library.
X-ALT-DESC;FMTTYPE=text/html:A community of parents or loved ones with an autistic child. Join us at Vestavia Methodist for a relaxed night of bingo and community on Thurs.\, 5/14\, 6-8 pm in the Library.&nbsp\;
LOCATION:Vestavia Hills Methodist Church\, 2061 Kentucky Ave.\, Vestavia Hills\, in the Library 6-8 pm
UID:e.888.7493
SEQUENCE:3
DTSTAMP:20260423T110436Z
URL:https://business.vestaviahills.org/events/details/the-autism-parent-support-group-bingo-night-community-and-support-7493
END:VEVENT

END:VCALENDAR
