BEGIN:VCALENDAR
VERSION:2.0
PRODID:-//ChamberMaster//Event Calendar 2.0//EN
METHOD:PUBLISH
X-PUBLISHED-TTL:P3D
REFRESH-INTERVAL:P3D
CALSCALE:GREGORIAN
BEGIN:VEVENT
DTSTART:20230719T133000Z
DTEND:20230721T223000Z
X-MICROSOFT-CDO-ALLDAYEVENT:FALSE
SUMMARY:Rocky Ridge Drug Co.: Summer Sidewalk Sale
DESCRIPTION:Rocky Ridge Drug Company is having a Summer Sidewalk Sale July 19-21st from 8:30am - 5:30pm! We'll have great deals on all things home decor\, accessories\, jewelry and more!
X-ALT-DESC;FMTTYPE=text/html:<span style="color: rgb(5\, 5\, 5)\; font-family: &quot\;Segoe UI Historic&quot\;\, &quot\;Segoe UI&quot\;\, Helvetica\, Arial\, sans-serif\; font-size: 15px\;">Rocky Ridge Drug Company is having a Summer Sidewalk Sale July 19-21st from 8:30am - 5:30pm!&nbsp\;We&#39\;ll have great deals on all things home decor\, accessories\, jewelry and more!</span><br />\n&nbsp\;
LOCATION:Rocky Ridge Drug Co. 3346 Morgan Drive
UID:e.888.6464
SEQUENCE:3
DTSTAMP:20260419T134642Z
URL:https://business.vestaviahills.org/events/details/rocky-ridge-drug-co-summer-sidewalk-sale-6464
END:VEVENT

END:VCALENDAR
