BEGIN:VCALENDAR
VERSION:2.0
PRODID:-//ChamberMaster//Event Calendar 2.0//EN
METHOD:PUBLISH
X-PUBLISHED-TTL:P3D
REFRESH-INTERVAL:P3D
CALSCALE:GREGORIAN
BEGIN:VEVENT
DTSTART:20340207T190000Z
DTEND:20340207T200000Z
X-MICROSOFT-CDO-ALLDAYEVENT:FALSE
SUMMARY:VHMC: Restore Caregiver's Support Group
DESCRIPTION:This support group is for those serving as caregiver for a loved one or family member. Come build community and have candid conversations on issues and questions that arise\, all in a loving and supportive environment.
X-ALT-DESC;FMTTYPE=text/html:This support group is for those serving as caregiver for a loved one or family member. Come build community and have candid conversations on issues and questions that arise\, all in a loving and supportive environment.&nbsp\;
LOCATION:Vestavia Hills Methodist Church\, 2061 Kentucky Ave.\, Vestavia Hills\, AL
UID:e.888.7787
SEQUENCE:3
DTSTAMP:20260422T215725Z
URL:https://business.vestaviahills.org/events/details/restore-caregiver-s-support-group-02-07-2034-7787
END:VEVENT

END:VCALENDAR
