BEGIN:VCALENDAR
VERSION:2.0
PRODID:-//ChamberMaster//Event Calendar 2.0//EN
METHOD:PUBLISH
X-PUBLISHED-TTL:P3D
REFRESH-INTERVAL:P3D
CALSCALE:GREGORIAN
BEGIN:VEVENT
DTSTART:20260609T163000Z
DTEND:20260609T180000Z
X-MICROSOFT-CDO-ALLDAYEVENT:FALSE
SUMMARY:Monthly Luncheon
DESCRIPTION:Network with other Chamber members and hear speakers on a wide variety of topics. This month's speaker is Abbie Stockard\, 2025 Miss America. \n\n\n\nWe're going on tour in 2026! Due to the renovation project at the Vestavia Country Club\, this year's luncheon will be held at a different location each month. This month we will be at the Church at Liberty Park.\n\n\n\nWith the exceptions of illness or family emergency\, any reservation that is made and not canceled by the registration deadline must be paid for\, as we must pay for the number reserved.
X-ALT-DESC;FMTTYPE=text/html:<span style="color:#000000\;"><span style="font-family: Arial\, Helvetica\, sans-serif\; font-size: 14px\;">Network with other Chamber members and hear speakers on a wide variety of topics. This month&#39\;s speaker is Abbie Stockard\, 2025 Miss America.&nbsp\;<br />\n<br />\n<strong><span style="background-color:#FFFF00\;">We&#39\;re going on tour in 2026! Due to the renovation project at the Vestavia Country Club\, this year&#39\;s luncheon will be held at a different location each month. <u>This month we will be at the Church at Liberty Park.</u></span></strong></span><br style="box-sizing: border-box\; color: rgb(102\, 102\, 102)\; font-family: Arial\, Helvetica\, sans-serif\; font-size: 14px\;" />\n<br style="box-sizing: border-box\; color: rgb(102\, 102\, 102)\; font-family: Arial\, Helvetica\, sans-serif\; font-size: 14px\;" />\n<span style="font-family: Arial\, Helvetica\, sans-serif\; font-size: 14px\;">With the exceptions of illness or family emergency\, any reservation that is made and not canceled by the registration deadline must be paid for\, as we must pay for the number reserved.</span></span>
LOCATION:The Church at Liberty Park 12001 Liberty Parkway Vestavia Hills\, AL 35242
UID:e.888.7389
SEQUENCE:3
DTSTAMP:20260423T175020Z
URL:https://business.vestaviahills.org/events/details/monthly-luncheon-06-09-2026-7389
END:VEVENT

END:VCALENDAR
