BEGIN:VCALENDAR
VERSION:2.0
PRODID:-//ChamberMaster//Event Calendar 2.0//EN
METHOD:PUBLISH
X-PUBLISHED-TTL:P3D
REFRESH-INTERVAL:P3D
CALSCALE:GREGORIAN
BEGIN:VEVENT
DTSTART:20350925T180000Z
DTEND:20350925T190000Z
X-MICROSOFT-CDO-ALLDAYEVENT:FALSE
SUMMARY:VHMC: Let's Talk Chemo Support Group
DESCRIPTION:Let's Talk is a group of those who have gone through chemo and have questions or tips on the process. It's a safe place to ask questions and receive candid responses\, in a loving and encouraging environment.
X-ALT-DESC;FMTTYPE=text/html:Let&#39\;s Talk is a group of those who have gone through chemo and have questions or tips on the process. It&#39\;s a safe place to ask questions and receive candid responses\, in a loving and encouraging environment.&nbsp\;
LOCATION:Vestavia Hills Methodist Church\, 2061 Kentucky Ave.\, Vestavia Hills\, AL\, held in the small dining room
UID:e.888.7935
SEQUENCE:3
DTSTAMP:20260422T014819Z
URL:https://business.vestaviahills.org/events/details/let-s-talk-chemo-support-group-09-25-2035-7935
END:VEVENT

END:VCALENDAR
