BEGIN:VCALENDAR
VERSION:2.0
PRODID:-//ChamberMaster//Event Calendar 2.0//EN
METHOD:PUBLISH
X-PUBLISHED-TTL:P3D
REFRESH-INTERVAL:P3D
CALSCALE:GREGORIAN
BEGIN:VEVENT
DTSTART:20350911T180000Z
DTEND:20350911T190000Z
X-MICROSOFT-CDO-ALLDAYEVENT:FALSE
SUMMARY:VHMC: Let's Talk Chemo Support Group
DESCRIPTION:Let's Talk is a group providing guidance and insights related to chemo. It is a safe place to ask and receive candid information in a loving and encouraging environment.
X-ALT-DESC;FMTTYPE=text/html:Let&#39\;s Talk is a group providing guidance and insights related to chemo. It is a safe place to ask and receive candid information in a loving and encouraging environment.&nbsp\;&nbsp\;
LOCATION:Vestavia Hills Methodist Church\, 2061 Kentucky Ave.\, Vestavia Hills\, AL - small dining room
UID:e.888.8063
SEQUENCE:3
DTSTAMP:20260422T014819Z
URL:https://business.vestaviahills.org/events/details/let-s-talk-chemo-support-group-09-11-2035-8063
END:VEVENT

END:VCALENDAR
