BEGIN:VCALENDAR
VERSION:2.0
PRODID:-//ChamberMaster//Event Calendar 2.0//EN
METHOD:PUBLISH
X-PUBLISHED-TTL:P3D
REFRESH-INTERVAL:P3D
CALSCALE:GREGORIAN
BEGIN:VEVENT
DTSTART:20260428T160000Z
DTEND:20260428T170000Z
X-MICROSOFT-CDO-ALLDAYEVENT:FALSE
SUMMARY:I Love America Night Committee Meeting
DESCRIPTION:I Love America Night Committee Meeting
X-ALT-DESC;FMTTYPE=text/html:I Love America Night Committee Meeting
LOCATION:Chamber Office
UID:e.888.7483
SEQUENCE:3
DTSTAMP:20260421T083802Z
URL:https://business.vestaviahills.org/events/details/i-love-america-night-committee-meeting-7483
END:VEVENT

END:VCALENDAR
