BEGIN:VCALENDAR
VERSION:2.0
PRODID:-//ChamberMaster//Event Calendar 2.0//EN
METHOD:PUBLISH
X-PUBLISHED-TTL:P3D
REFRESH-INTERVAL:P3D
CALSCALE:GREGORIAN
BEGIN:VEVENT
DTSTART;VALUE=DATE:20230718
DTEND;VALUE=DATE:20230724
TRANSP:TRANSPARENT
X-MICROSOFT-CDO-ALLDAYEVENT:TRUE
SUMMARY:HaMi Boutique-2nd Anniversary Sale
DESCRIPTION:Celebrate HaMi Boutique's 2nd Anniversary with 25-70% off all* clothing\, shoes and accessories!\n\nMonday\, July 17-Sunday\, July July 23\n\nPlus shop Tax Free July 21-23 during the Back to School Sales Tax Holiday!\n\nUse discount code 2years to shop online.\n\n\n\n*some exclusions apply
X-ALT-DESC;FMTTYPE=text/html:<div style="text-align: center\;"><span style="font-size:16px\;">Celebrate HaMi Boutique&#39\;s 2nd Anniversary with 25-70% off all* clothing\, shoes and accessories!<br />\nMonday\, July 17-Sunday\, July July 23<br />\nPlus shop Tax Free July 21-23 during the Back to School Sales Tax Holiday!<br />\nUse discount code 2years to shop online.<br />\n<br />\n*some exclusions apply</span></div>\n
LOCATION:HaMi Boutique 3215 Endeavor Lane\, Suite 145 Vestavia Hills\, AL 35242
UID:e.888.6469
SEQUENCE:3
DTSTAMP:20260419T143146Z
URL:https://business.vestaviahills.org/events/details/hami-boutique-2nd-anniversary-sale-6469
END:VEVENT

END:VCALENDAR
