BEGIN:VCALENDAR
VERSION:2.0
PRODID:-//ChamberMaster//Event Calendar 2.0//EN
METHOD:PUBLISH
X-PUBLISHED-TTL:P3D
REFRESH-INTERVAL:P3D
CALSCALE:GREGORIAN
BEGIN:VEVENT
DTSTART:20230610T123000Z
DTEND:20230610T150000Z
X-MICROSOFT-CDO-ALLDAYEVENT:FALSE
SUMMARY:Fleet Feet Birmingham-The Big Run
DESCRIPTION:Celebrate Global Running Day with Fleet Feet Birmingham! \n\nGlobal Running Day celebrates what makes running so special camaraderie and friendship\, endorphins and accomplishment\, and the chance to challenge your personal limits on a challenging but fun course.\n\nThis year's 5K race will be held on Saturday morning\, June 10th at 7:30am from Fleet Feet Birmingham. All proceeds from the race will benefit the Children's S.H.I.N.E. Clinic to help combat chilhood and adolescent obesity. \n\nAfter the race\, join us for an after party with prizes\, raffles and more fun to be announced soon!\n\nThe first 50 participants to register will receive a  Big Run shirt.\n\nRegister at https://runsignup.com/Race/AL/Birmingham/TheBigRunBirmingham
X-ALT-DESC;FMTTYPE=text/html:<p style="box-sizing: inherit\; font-size: 1.1rem\; padding: 0px\; margin: 0px 0px 10px\; line-height: 1.6rem\; color: rgb(117\, 117\, 117)\; font-family: Roboto\, &quot\;Helvetica Neue&quot\;\, Helvetica\, sans-serif\;"><span style="color:#000000\;">Celebrate Global Running Day with Fleet Feet Birmingham!&nbsp\;</span></p>\n\n<p style="box-sizing: inherit\; font-size: 1.1rem\; padding: 0px\; margin: 0px 0px 10px\; line-height: 1.6rem\; color: rgb(117\, 117\, 117)\; font-family: Roboto\, &quot\;Helvetica Neue&quot\;\, Helvetica\, sans-serif\;"><span style="color:#000000\;">Global Running Day celebrates what makes running so special&ndash\;camaraderie and friendship\, endorphins and accomplishment\, and the chance to challenge your personal limits on a challenging but fun course.</span></p>\n\n<p style="box-sizing: inherit\; font-size: 1.1rem\; padding: 0px\; margin: 0px 0px 10px\; line-height: 1.6rem\; color: rgb(117\, 117\, 117)\; font-family: Roboto\, &quot\;Helvetica Neue&quot\;\, Helvetica\, sans-serif\;"><span style="color:#000000\;">This year&#39\;s 5K race will be held on Saturday morning\, June 10th at 7:30am from Fleet Feet Birmingham. All proceeds from the race will benefit the&nbsp\;</span><a href="https://www.childrensal.org/services/childrens-shine-clinic-support-and-help-nutrition-and-exercise" rel="nofollow noopener noreferrer" style="box-sizing: inherit\; background-color: rgba(0\, 0\, 0\, 0)\; color: rgb(0\, 125\, 168)\; text-decoration-line: none\;" target="_blank"><span style="color:#000000\;">Children&#39\;s S.H.I.N.E. Clinic</span></a><span style="color:#000000\;">&nbsp\;to help combat chilhood and adolescent obesity.&nbsp\;</span></p>\n\n<p style="box-sizing: inherit\; font-size: 1.1rem\; padding: 0px\; margin: 0px 0px 10px\; line-height: 1.6rem\; color: rgb(117\, 117\, 117)\; font-family: Roboto\, &quot\;Helvetica Neue&quot\;\, Helvetica\, sans-serif\;"><span style="color:#000000\;">After the race\, join us for an after party with prizes\, raffles and more fun to be announced soon!</span></p>\n\n<p style="box-sizing: inherit\; font-size: 1.1rem\; padding: 0px\; margin: 0px 0px 10px\; line-height: 1.6rem\; color: rgb(117\, 117\, 117)\; font-family: Roboto\, &quot\;Helvetica Neue&quot\;\, Helvetica\, sans-serif\;"><span style="color:#000000\;">The first 50 participants to register will receive a&nbsp\; Big Run shirt.<br />\nRegister at&nbsp\;<a href="https://runsignup.com/Race/AL/Birmingham/TheBigRunBirmingham">https://runsignup.com/Race/AL/Birmingham/TheBigRunBirmingham</a></span></p>\n
LOCATION:Fleet Feet Birmingham 3060 Healthy Way\, Suite 100
UID:e.888.6417
SEQUENCE:3
DTSTAMP:20260419T142743Z
URL:https://business.vestaviahills.org/events/details/fleet-feet-birmingham-the-big-run-6417
END:VEVENT

END:VCALENDAR
