BEGIN:VCALENDAR
VERSION:2.0
PRODID:-//ChamberMaster//Event Calendar 2.0//EN
METHOD:PUBLISH
X-PUBLISHED-TTL:P3D
REFRESH-INTERVAL:P3D
CALSCALE:GREGORIAN
BEGIN:VEVENT
DTSTART:20260519T170000Z
DTEND:20260519T183000Z
X-MICROSOFT-CDO-ALLDAYEVENT:FALSE
SUMMARY:Connection Point Church: Connection & Coffee
DESCRIPTION:Please join us for our quarterly networking event. The aim is to establish and build a sustaining and thriving local economy\, and you are the backbone.
X-ALT-DESC;FMTTYPE=text/html:Please join us for our quarterly networking event. The aim is to establish and build a sustaining and thriving local economy\, and you are the backbone.
LOCATION:Connection Point Church: 1795 Riderwood Trail\, Birmingham\, AL 35214
UID:e.888.7487
SEQUENCE:3
DTSTAMP:20260423T035333Z
URL:https://business.vestaviahills.org/events/details/connection-point-church-connection-coffee-7487
END:VEVENT

END:VCALENDAR
