BEGIN:VCALENDAR
VERSION:2.0
PRODID:-//ChamberMaster//Event Calendar 2.0//EN
METHOD:PUBLISH
X-PUBLISHED-TTL:P3D
REFRESH-INTERVAL:P3D
CALSCALE:GREGORIAN
BEGIN:VEVENT
DTSTART:20340616T170000Z
DTEND:20340616T180000Z
X-MICROSOFT-CDO-ALLDAYEVENT:FALSE
SUMMARY:VHMC: Cancer Support Group
DESCRIPTION:This cancer support group is a safe place to ask questions and receive love and encouragement\, as well as insights from those who have gone through this experience.
X-ALT-DESC;FMTTYPE=text/html:This cancer support group is a safe place to ask questions and receive love and encouragement\, as well as insights from those who have gone through this experience.&nbsp\;
LOCATION:Vestavia Hills Methodist Church\, 2061 Kentucky Ave.\, Vestavia Hills\, AL - Room.318
UID:e.888.8376
SEQUENCE:3
DTSTAMP:20260422T215556Z
URL:https://business.vestaviahills.org/events/details/cancer-support-group-06-16-2034-8376
END:VEVENT

END:VCALENDAR
