BEGIN:VCALENDAR
VERSION:2.0
PRODID:-//ChamberMaster//Event Calendar 2.0//EN
METHOD:PUBLISH
X-PUBLISHED-TTL:P3D
REFRESH-INTERVAL:P3D
CALSCALE:GREGORIAN
BEGIN:VEVENT
DTSTART:20260423T123000Z
DTEND:20260423T134500Z
X-MICROSOFT-CDO-ALLDAYEVENT:FALSE
SUMMARY:Business Development
DESCRIPTION:Monthly Business Development Meeting
X-ALT-DESC;FMTTYPE=text/html:Monthly Business Development Meeting&nbsp\;&nbsp\;&nbsp\;&nbsp\;&nbsp\;
LOCATION:1090 Montgomery Hwy Vestavia Hills\, AL 35216
UID:e.888.7452
SEQUENCE:3
DTSTAMP:20260425T131625Z
URL:https://business.vestaviahills.org/events/details/business-development-04-23-2026-7452
END:VEVENT

END:VCALENDAR
