BEGIN:VCALENDAR
VERSION:2.0
PRODID:-//ChamberMaster//Event Calendar 2.0//EN
METHOD:PUBLISH
X-PUBLISHED-TTL:P3D
REFRESH-INTERVAL:P3D
CALSCALE:GREGORIAN
BEGIN:VEVENT
DTSTART:20230610T230000Z
DTEND:20230611T030000Z
X-MICROSOFT-CDO-ALLDAYEVENT:FALSE
SUMMARY:Birmingham Zoo-Zoo Brews 2023
DESCRIPTION:Craft beer lovers will enjoy a fantastic selection of beverages from the finest specialty brews and wines. Experience breweries from all over Alabama and the southeast while you travel through the Zoo. Perfect for adults 21 and up\, this event is a signature favorite! Attendees will delight in tasty selections from local food truck vendors and the Zoo's Wild Burger restaurant will be serving full-size beer and wine   all for an additional charge. Whether a Zoo Brews fan or new to the event\, we can't wait to see you for a fun evening at the Zoo!\n\nPer ABC regulations\, Zoo Brews will operate with a "Penny-A-Pour" system! Each sample will be worth one penny. Guests will drop their penny into a bucket at each brewery booth in order to receive your sample. If you don't have pennies lying around\, we will have a penny redemption booth at each vendor station\, where you can cash in larger coins for pennies! All pennies collected will be donated to our Emergency Animal Fund. Guests can purchase full-size beer and wine for an additional cost at Wild Burger or any of our concession stand locations.\n\n*PLEASE NOTE:\n\nAdults-only\, all guests MUST be 21+\, no exceptions.\n\nNo children will be allowed into the event\, including infants.\n\nID is required\, no admittance without ID\, and no refunds for no ID.\n\nAll purchases are final.\n\nTicket refunds will not be issued.\n\nFOOD & BEVERAGE\n\nFood trucks will be onsite serving food for additional purchase\n\nWild Burger will be open and serving full-size beer and wine for an additional purchase\n\n\n\nTICKETS
X-ALT-DESC;FMTTYPE=text/html:<div class="xdj266r x11i5rnm xat24cr x1mh8g0r x1vvkbs" style="margin: 0px\; overflow-wrap: break-word\; font-family: &quot\;Segoe UI Historic&quot\;\, &quot\;Segoe UI&quot\;\, Helvetica\, Arial\, sans-serif\; color: rgb(5\, 5\, 5)\; font-size: 15px\;">Craft beer lovers will enjoy a fantastic selection of beverages from the finest specialty brews and wines. Experience breweries from all over Alabama and the southeast while you travel through the Zoo. Perfect for adults 21 and up\, this event is a signature favorite! Attendees will delight in tasty selections from local food truck vendors and the Zoo&rsquo\;s Wild Burger restaurant will be serving full-size beer and wine &ndash\; all for an additional charge. Whether a Zoo Brews fan or new to the event\, we can&rsquo\;t wait to see you for a fun evening at the Zoo!</div>\n\n<div class="x11i5rnm xat24cr x1mh8g0r x1vvkbs xtlvy1s" style="margin: 0.5em 0px 0px\; overflow-wrap: break-word\; font-family: &quot\;Segoe UI Historic&quot\;\, &quot\;Segoe UI&quot\;\, Helvetica\, Arial\, sans-serif\; color: rgb(5\, 5\, 5)\; font-size: 15px\;">Per ABC regulations\, Zoo Brews will operate with a &ldquo\;Penny-A-Pour&rdquo\; system! Each sample will be worth one penny. Guests will drop their penny into a bucket at each brewery booth in order to receive your sample. If you don&rsquo\;t have pennies lying around\, we will have a penny redemption booth at each vendor station\, where you can cash in larger coins for pennies! All pennies collected will be donated to our Emergency Animal Fund. Guests can purchase full-size beer and wine for an additional cost at Wild Burger or any of our concession stand locations.</div>\n\n<div class="x11i5rnm xat24cr x1mh8g0r x1vvkbs xtlvy1s" style="margin: 0.5em 0px 0px\; overflow-wrap: break-word\; font-family: &quot\;Segoe UI Historic&quot\;\, &quot\;Segoe UI&quot\;\, Helvetica\, Arial\, sans-serif\; color: rgb(5\, 5\, 5)\; font-size: 15px\;">*PLEASE NOTE:</div>\n\n<div class="x11i5rnm xat24cr x1mh8g0r x1vvkbs xtlvy1s" style="margin: 0.5em 0px 0px\; overflow-wrap: break-word\; font-family: &quot\;Segoe UI Historic&quot\;\, &quot\;Segoe UI&quot\;\, Helvetica\, Arial\, sans-serif\; color: rgb(5\, 5\, 5)\; font-size: 15px\;">Adults-only\, all guests MUST be 21+\, no exceptions.<br />\nNo children will be allowed into the event\, including infants.<br />\nID is required\, no admittance without ID\, and no refunds for no ID.<br />\nAll purchases are final.<br />\nTicket refunds will not be issued.<br />\nFOOD &amp\; BEVERAGE</div>\n\n<div class="x11i5rnm xat24cr x1mh8g0r x1vvkbs xtlvy1s" style="margin: 0.5em 0px 0px\; overflow-wrap: break-word\; font-family: &quot\;Segoe UI Historic&quot\;\, &quot\;Segoe UI&quot\;\, Helvetica\, Arial\, sans-serif\; color: rgb(5\, 5\, 5)\; font-size: 15px\;">Food trucks will be onsite serving food for additional purchase<br />\nWild Burger will be open and serving full-size beer and wine for an additional purchase<br />\n<br />\n<a href="https://bhamzoo.ticketapp.org/portal/product/42" style="color: var(--tec-color-link-accent)\; outline: 0px\; text-decoration-line: none\; border-bottom: 1px solid currentcolor\; transition: var(--tec-transition-color)\;"><span style="color:#0000FF\;"><strong>TICKETS</strong></span></a></div>\n
LOCATION:Birmingham Zoo
UID:e.888.6421
SEQUENCE:3
DTSTAMP:20260419T155802Z
URL:https://business.vestaviahills.org/events/details/birmingham-zoo-zoo-brews-2023-6421
END:VEVENT

END:VCALENDAR
