BEGIN:VCALENDAR
VERSION:2.0
PRODID:-//ChamberMaster//Event Calendar 2.0//EN
METHOD:PUBLISH
X-PUBLISHED-TTL:P3D
REFRESH-INTERVAL:P3D
CALSCALE:GREGORIAN
BEGIN:VEVENT
DTSTART:20260419T210000Z
DTEND:20260419T230000Z
X-MICROSOFT-CDO-ALLDAYEVENT:FALSE
SUMMARY:Birmingham Legion: Talladega Night-Flag and Poster Giveaway
DESCRIPTION:Talladega Night
X-ALT-DESC;FMTTYPE=text/html:Talladega Night&nbsp\;&nbsp\;&nbsp\;&nbsp\;&nbsp\;&nbsp\;&nbsp\;&nbsp\;
LOCATION:Protective Stadium
UID:e.888.7464
SEQUENCE:3
DTSTAMP:20260425T132055Z
URL:https://business.vestaviahills.org/events/details/birmingham-legion-talladega-night-flag-and-poster-giveaway-7464
END:VEVENT

END:VCALENDAR
