BEGIN:VCALENDAR
VERSION:2.0
PRODID:-//ChamberMaster//Event Calendar 2.0//EN
METHOD:PUBLISH
X-PUBLISHED-TTL:P3D
REFRESH-INTERVAL:P3D
CALSCALE:GREGORIAN
BEGIN:VEVENT
DTSTART:20260412T210000Z
DTEND:20260412T230000Z
X-MICROSOFT-CDO-ALLDAYEVENT:FALSE
SUMMARY:Birmingham Legion: Bucket Hat Giveaway
DESCRIPTION:Bucket Hat Giveaway
X-ALT-DESC;FMTTYPE=text/html:Bucket Hat Giveaway
LOCATION:Protective Stadium
UID:e.888.7463
SEQUENCE:3
DTSTAMP:20260425T131913Z
URL:https://business.vestaviahills.org/events/details/birmingham-legion-bucket-hat-giveaway-7463
END:VEVENT

END:VCALENDAR
