BEGIN:VCALENDAR
VERSION:2.0
PRODID:-//ChamberMaster//Event Calendar 2.0//EN
METHOD:PUBLISH
X-PUBLISHED-TTL:P3D
REFRESH-INTERVAL:P3D
CALSCALE:GREGORIAN
BEGIN:VEVENT
DTSTART:20260409T160000Z
DTEND:20260409T173000Z
X-MICROSOFT-CDO-ALLDAYEVENT:FALSE
SUMMARY:Arise Knox Square: Masters of Networking
DESCRIPTION:Join Arise Knox Square for an elevated networking experience at their Masters of Networking event-designed exclusively for local business professionals looking to build meaningful connections in a relaxed and engaging setting. Come ready to connect\, collaborate and strengthen your professional circle-all while enjoying the beautiful setting of Arise Knox Square.\n\n\n\nRSVP by April 8 to (205) 564-9064 or info@ariseknoxsquare.com
X-ALT-DESC;FMTTYPE=text/html:Join Arise Knox Square for an elevated networking experience at their Masters of Networking event-designed exclusively for local business professionals looking to build meaningful connections in a relaxed and engaging setting. Come ready to connect\, collaborate and strengthen your professional circle-all while enjoying the beautiful setting of Arise Knox Square.<br />\n<br />\nRSVP by April 8 to (205) 564-9064 or info@ariseknoxsquare.com
LOCATION:Arise Knox Square 5830 Elsie Road Hoover\, AL 35244
UID:e.888.7469
SEQUENCE:3
DTSTAMP:20260425T131752Z
URL:https://business.vestaviahills.org/events/details/arise-knox-square-masters-of-networking-7469
END:VEVENT

END:VCALENDAR
