BEGIN:VCALENDAR
VERSION:2.0
PRODID:-//ChamberMaster//Event Calendar 2.0//EN
METHOD:PUBLISH
X-PUBLISHED-TTL:P3D
REFRESH-INTERVAL:P3D
CALSCALE:GREGORIAN
BEGIN:VEVENT
DTSTART:20260426T190000Z
DTEND:20260426T230000Z
X-MICROSOFT-CDO-ALLDAYEVENT:FALSE
SUMMARY:Amanda Pair Foundation: Crawfish Boil & Mini Golf
DESCRIPTION:The Amanda Pair Foundation is hosting a Crawfish & Mini Golf Charity  Tournament on Sunday\, April 26\, from 2:00 to 6:00 PM at On Tap Liberty Park. Proceeds from the event will benefit both the Amanda Pair Foundation and Anderson's Army.\n\n\n\nThe event is designed to be family friendly\, with fresh crawfish\, a casual mini golf tournament\, and time for the community to gather in support of families facing serious medical needs.\n\n\n\nEvent Details:\n\n  Date: Sunday\, April 26\n\n  Time: 2:00 6:00 PM\n\n  Location: On Tap Liberty Park\, 11967 Liberty Pkwy\, Vestavia Hills\, AL 35242\n\n  Admission: $25 Crawfish   $10 Mini Golf (Pay at the door)\n\n  Benefiting: Amanda Pair Foundation & Anderson's Army\n\n  Sponsored by: Abita Brewing Company\n\n\n\nThe event supports APF's mission\, built on three pillars inspired by Amanda's life and legacy:\n\n  Family Support for those navigating cancer\n\n  Research Funding for the rare genetic mutation linked to Amanda's diagnosis\n\n  Educational Scholarships for students who embody Amanda's drive and leadership\n\n\n\n"This event reflects everything Amanda valued   community\, generosity\, and showing up for others\," said APF leadership. "We're honored to partner with Anderson's Army and grateful to everyone who joins us to make a difference."\n\n\n\nFounded in memory of Amanda Pair\, the Amanda Pair Foundation works to ease the burden on families facing cancer while also investing in long-term solutions. The organization provides direct support to families in treatment\, helps fund research into rare genetic conditions\, and awards scholarships to students who reflect Amanda's character and leadership. Its mission centers on care\, hope\, and lasting impact for others walking a difficult road.\n\nThe Crawfish & Mini Golf Charity Tournament is open to the public\, and all proceeds will go toward supporting families\, advancing research\, and funding scholarships through APF\, along with the ongoing efforts of Anderson's Army.
X-ALT-DESC;FMTTYPE=text/html:<p><span style="font-size:16px\;">The Amanda Pair Foundation is hosting a&nbsp\;Crawfish &amp\; Mini Golf Charity&nbsp\; Tournament&nbsp\;on&nbsp\;Sunday\, April 26\, from 2:00 to 6:00 PM at On Tap Liberty Park. Proceeds from the event will benefit both the <a href="https://linkprotect.cudasvc.com/url?a=https%3a%2f%2falpolitics.com%2fr%2f302a349e%3fm%3d5e118b20-d22e-4b47-9ad7-2cfc1de01cb7&amp\;c=E\,1\,Y8tqZESuDoiVaPzkiEcPnLTP5LvUuAzSEzWPT_I5En0PV0Jib_rOCHEg6uySQOebWbWfcvx3HlYiLWGOoV1ZRgYeMSxn2ua4Pvp-fEbs_9BcLkMBIicfL9U\,&amp\;typo=1" target="_blank">Amanda Pair Foundation </a>and Anderson&rsquo\;s Army.<br />\n<br />\nThe event is designed to be family friendly\, with fresh crawfish\, a casual mini golf tournament\, and time for the community to gather in support of families facing serious medical needs.<br />\n<br />\nEvent Details:<br />\n&bull\; Date: Sunday\, April 26<br />\n&bull\; Time: 2:00&ndash\;6:00 PM<br />\n&bull\; Location: <a href="https://linkprotect.cudasvc.com/url?a=https%3a%2f%2falpolitics.com%2fr%2f9ac5c07c%3fm%3d5e118b20-d22e-4b47-9ad7-2cfc1de01cb7&amp\;c=E\,1\,lqTtXoW99iAcIllRnQpeHxE5n0El57F27piqwWjLGRKfF_LyEjdpHRMBof4Alt_a5y9sIeAyz43KUIWMszbYuhTpMrUljpLtVOOFHobKnLuHdX8TbqA\,&amp\;typo=1" target="_blank">On Tap Liberty Park</a>\, 11967 Liberty Pkwy\, Vestavia Hills\, AL 35242<br />\n&bull\; Admission: $25 Crawfish &bull\; $10 Mini Golf (Pay at the door)<br />\n&bull\; Benefiting: Amanda Pair Foundation &amp\; Anderson&rsquo\;s Army<br />\n&bull\; Sponsored by: <a href="https://linkprotect.cudasvc.com/url?a=https%3a%2f%2falpolitics.com%2fr%2f3f43a104%3fm%3d5e118b20-d22e-4b47-9ad7-2cfc1de01cb7&amp\;c=E\,1\,0iB_44YDlFyvRSPssmJCLAyas-4aFMWhKukWBAaW1GuHrUDBqcxmtC6s9P2pTJWV488ol0xJktEUOurhAI5sbe_010fXTekofzIqiEzESevwz8CqE55Npw\,\,&amp\;typo=1" target="_blank">Abita Brewing Company</a><br />\n<br />\nThe event supports APF&rsquo\;s mission\, built on three pillars inspired by Amanda&rsquo\;s life and legacy:<br />\n&bull\; Family Support for those navigating cancer<br />\n&bull\; Research Funding for the rare genetic mutation linked to Amanda&rsquo\;s diagnosis<br />\n&bull\; Educational Scholarships for students who embody Amanda&rsquo\;s drive and leadership<br />\n<br />\n&ldquo\;This event reflects everything Amanda valued &mdash\; community\, generosity\, and showing up for others\,&rdquo\; said APF leadership. &ldquo\;We&rsquo\;re honored to partner with Anderson&rsquo\;s Army and grateful to everyone who joins us to make a difference.&rdquo\;<br />\n<br />\nFounded in memory of Amanda Pair\, the Amanda Pair Foundation works to ease the burden on families facing cancer while also investing in long-term solutions. The organization provides direct support to families in treatment\, helps fund research into rare genetic conditions\, and awards scholarships to students who reflect Amanda&rsquo\;s character and leadership. Its mission centers on care\, hope\, and lasting impact for others walking a difficult road.</span></p>\n\n<p><span style="font-size:16px\;">The Crawfish &amp\; Mini Golf Charity Tournament is open to the public\, and all proceeds will go toward supporting families\, advancing research\, and funding scholarships through APF\, along with the ongoing efforts of Anderson&rsquo\;s Army.</span><o:p></o:p></p>\n\n<p>&nbsp\;</p>\n
LOCATION:On Tap Sports Bar 11967 Liberty Parkway Vestavia Hills\, AL 35242
UID:e.888.8415
SEQUENCE:3
DTSTAMP:20260423T173937Z
URL:https://business.vestaviahills.org/events/details/amanda-pair-foundation-crawfish-boil-mini-golf-8415
END:VEVENT

END:VCALENDAR
