BEGIN:VCALENDAR
VERSION:2.0
PRODID:-//ChamberMaster//Event Calendar 2.0//EN
METHOD:PUBLISH
X-PUBLISHED-TTL:P3D
REFRESH-INTERVAL:P3D
CALSCALE:GREGORIAN
BEGIN:VEVENT
DTSTART:20230721T050000Z
DTEND:20230723T050000Z
X-MICROSOFT-CDO-ALLDAYEVENT:FALSE
SUMMARY:Alabama Back to School Sales Tax Holiday
DESCRIPTION:Alabama's 18th annual back-to-school sales tax holiday begins at 12:01 a.m. Friday\, July 21\, 2023\, and ends at midnight Sunday July 23\, 2023\, giving shoppers the opportunity to purchase certain school supplies\, computers\, books and clothing free of the state's four percent sales or use tax.\n\n\n\nVestavia Hills will be participating (Jefferson County will not\, so the county sales tax will still be applied).\n\n\n\nPlease click here for a list of tax exempt items.
X-ALT-DESC;FMTTYPE=text/html:<span style="color: rgb(68\, 68\, 68)\; font-family: georgia\, serif\; font-size: 16px\; line-height: 24px\;">Alabama&rsquo\;s 18th annual back-to-school sales tax holiday begins at 12:01 a.m.&nbsp\;</span><span style="box-sizing: border-box\; font-weight: 700\; color: rgb(68\, 68\, 68)\; font-family: georgia\, serif\; font-size: 16px\; line-height: 24px\;">Friday\, July 21\, 2023</span><span style="color: rgb(68\, 68\, 68)\; font-family: georgia\, serif\; font-size: 16px\; line-height: 24px\;">\, and ends at midnight&nbsp\;</span><span style="box-sizing: border-box\; font-weight: 700\; color: rgb(68\, 68\, 68)\; font-family: georgia\, serif\; font-size: 16px\; line-height: 24px\;">Sunday July 23\, 2023</span><span style="color: rgb(68\, 68\, 68)\; font-family: georgia\, serif\; font-size: 16px\; line-height: 24px\;">\, giving shoppers the opportunity to purchase certain school supplies\, computers\, books and clothing free of the state&rsquo\;s four percent sales or use tax.<br />\n<br />\nVestavia Hills will be participating (Jefferson County will not\, so the county sales tax will still be applied).<br />\n<br />\nPlease click <a href="https://www.revenue.alabama.gov/ultraviewer/viewer/basic_viewer/index.html?form=2023/03/2023-Back-to-School-Sales-Tax-Holiday-Fact-Sheet.pdf">here</a> for a list of tax exempt items.</span>
LOCATION:
UID:e.888.6460
SEQUENCE:3
DTSTAMP:20260419T143358Z
URL:https://business.vestaviahills.org/events/details/alabama-back-to-school-sales-tax-holiday-6460
END:VEVENT

END:VCALENDAR
