BEGIN:VCALENDAR
VERSION:2.0
PRODID:-//ChamberMaster//Event Calendar 2.0//EN
METHOD:PUBLISH
X-PUBLISHED-TTL:P3D
REFRESH-INTERVAL:P3D
CALSCALE:GREGORIAN
BEGIN:VEVENT
DTSTART:20260418T130000Z
DTEND:20260418T220000Z
X-MICROSOFT-CDO-ALLDAYEVENT:FALSE
SUMMARY:2026 Jimmie Hale Mission Serving Hope Pickleball Tournament
DESCRIPTION:The Jimmie Hale Mission Young Professional Board is excited to announce its upcoming Pickleball Tournament on Saturday\, April 18\, 2026\, at City Walk Birmingham Pickleball courts.  This highly anticipated community event will bring together players\, supporters\, and families for a day of purpose-driven fun to support life-changing work serving individuals experiencing homelessness in Birmingham. \n\n\n\nThe tournament will feature divisions for beginners\, intermediate\, and advanced players\, ensuring a welcoming environment for newcomers and seasoned athletes. Participants will have the opportunity to showcase their skills\, connect with fellow pickleball enthusiasts\, and enjoy a festive atmosphere. \n\nProceeds from the tournament will aid in Jimmie Hale Mission's efforts to construct a new Emergency Plus Shelter\, a year-round facility providing immediate care\, resources\, and refuge for some of Birmingham's most vulnerable residents. Through events like this tournament\, the Mission continues its long-standing commitment to ensuring that no one in Birmingham faces the conditions of homelessness alone. \n\n\n\nThe Young Professionals Board extends sincere gratitude to the players\, volunteers\, and community members who make this event possible. Their support helps continue extending hope\, providing essential services\, and meeting tangible needs across Birmingham. Sponsorship opportunities remain available for organizations and businesses seeking to make a meaningful impact in Birmingham through this event. \n\n\n\nCommunity members are invited to play\, sponsor\, and attend and be a part of a meaningful day of recreation with real impact.  \n\n\n\nFor more information\, please visit https://jimmiehalemission.com/pickleball/ or please call The Jimmie Hale Mission at 205-323-5878\, option 3.
X-ALT-DESC;FMTTYPE=text/html:<span style="color:rgb(0\, 0\, 0)\; font-family:times new roman\,times new roman_embeddedfont\,times new roman_msfontservice\,serif\; font-size:12pt">The Jimmie Hale Mission Young Professional Board is&nbsp\;excited&nbsp\;to announce its upcoming Pickleball Tournament on Saturday\, April&nbsp\;18\,&nbsp\;2026\,&nbsp\;at City Walk Birmingham Pickleball courts.&nbsp\;&nbsp\;This highly&nbsp\;anticipated&nbsp\;community&nbsp\;event&nbsp\;will bring together players\, supporters\, and families for a day of purpose-driven fun&nbsp\;to support life-changing work serving individuals experiencing homelessness in Birmingham.&nbsp\;<br />\n<br />\nThe tournament will feature divisions for beginners\, intermediate\, and advanced&nbsp\;players\, ensuring a welcoming environment for newcomers and seasoned athletes.&nbsp\;Participants will have the opportunity to&nbsp\;showcase&nbsp\;their skills\, connect with&nbsp\;fellow pickleball enthusiasts\, and enjoy a festive atmosphere.&nbsp\;</span>\n<div>\n<p><span style="font-family:times new roman\,times new roman_embeddedfont\,times new roman_msfontservice\,serif\; font-size:12pt">Proceeds from the tournament&nbsp\;</span><span style="color:rgb(9\, 9\, 11)\; font-family:times new roman\,times new roman_embeddedfont\,times new roman_msfontservice\,serif\; font-size:12pt">will aid in Jimmie Hale Mission&rsquo\;s efforts to construct a new Emergency Plus Shelter\,&nbsp\;a year-round facility providing immediate care\, resources\, and refuge for some of Birmingham&rsquo\;s most vulnerable residents. Through events like this tournament\, the Mission continues its long-standing commitment&nbsp\;to ensuring that no one in Birmingham faces&nbsp\;the conditions of homelessness alone.</span><span style="color:rgb(9\, 9\, 11)\; font-family:times new roman\,times new roman_embeddedfont\,times new roman_msfontservice\,serif\; font-size:12pt">&nbsp\;</span></p>\n</div>\n\n<div>\n<p><span style="font-family:times new roman\,times new roman_embeddedfont\,times new roman_msfontservice\,serif\; font-size:12pt">The Young Professionals Board extends sincere gratitude to the players\, volunteers\, and community members who make this event possible. Their support helps continue extending hope\, providing essential services\, and meeting tangible needs across Birmingham.&nbsp\;Sponsorship opportunities&nbsp\;remain&nbsp\;available for organizations and businesses&nbsp\;seeking&nbsp\;to make a meaningful impact&nbsp\;in&nbsp\;Birmingham through this event.</span><span style="font-family:times new roman\,times new roman_embeddedfont\,times new roman_msfontservice\,serif\; font-size:12pt">&nbsp\;</span></p>\n</div>\n\n<div>\n<p><span style="font-family:times new roman\,times new roman_embeddedfont\,times new roman_msfontservice\,serif\; font-size:12pt">Community members are invited to play\, sponsor\,&nbsp\;and&nbsp\;attend and be a part of a meaningful day of recreation&nbsp\;with real impact.&nbsp\;</span><span style="font-family:times new roman\,times new roman_embeddedfont\,times new roman_msfontservice\,serif\; font-size:12pt">&nbsp\;</span></p>\n</div>\n\n<div>\n<p><span style="font-family:times new roman\,times new roman_embeddedfont\,times new roman_msfontservice\,serif\; font-size:12pt">For more information\, please visit&nbsp\;</span><a class="Hyperlink SCXW89467239 BCX8" href="https://jimmiehalemission.com/pickleball/" rel="noreferrer noopener" style="-webkit-user-drag: none\; -webkit-tap-highlight-color: transparent\; margin: 0px\; padding: 0px\; user-select: text\; text-decoration-line: none\; color: inherit\;" target="_blank"><span style="color:rgb(5\, 99\, 193)\; font-family:times new roman\,times new roman_embeddedfont\,times new roman_msfontservice\,serif\; font-size:12pt">https://jimmiehalemission.com/pickleball/</span></a><span style="font-family:times new roman\,times new roman_embeddedfont\,times new roman_msfontservice\,serif\; font-size:12pt">&nbsp\;or please call The Jimmie Hale Mission at 205-323-5878\, option 3.&nbsp\;</span><span style="font-family:times new roman\,times new roman_embeddedfont\,times new roman_msfontservice\,serif\; font-size:12pt">&nbsp\;</span></p>\n</div>\n<br />\n<br />\n&nbsp\;
LOCATION:City Walk Birmingham
UID:e.888.7468
SEQUENCE:3
DTSTAMP:20260425T132042Z
URL:https://business.vestaviahills.org/events/details/2026-jimmie-hale-mission-serving-hope-pickleball-tournament-7468
END:VEVENT

END:VCALENDAR
